BEGIN:VCALENDAR
VERSION:2.0
PRODID:-//Revesby Pacific Hotel - ECPv6.15.13//NONSGML v1.0//EN
CALSCALE:GREGORIAN
METHOD:PUBLISH
X-ORIGINAL-URL:https://www.revesbypacifichotel.com.au
X-WR-CALDESC:Events for Revesby Pacific Hotel
REFRESH-INTERVAL;VALUE=DURATION:PT1H
X-Robots-Tag:noindex
X-PUBLISHED-TTL:PT1H
BEGIN:VTIMEZONE
TZID:UTC
BEGIN:STANDARD
TZOFFSETFROM:+0000
TZOFFSETTO:+0000
TZNAME:UTC
DTSTART:20240101T000000
END:STANDARD
END:VTIMEZONE
BEGIN:VTIMEZONE
TZID:UTC
BEGIN:STANDARD
TZOFFSETFROM:+0000
TZOFFSETTO:+0000
TZNAME:UTC
DTSTART:20250101T000000
END:STANDARD
END:VTIMEZONE
BEGIN:VEVENT
DTSTART;VALUE=DATE:20251229
DTEND;VALUE=DATE:20270105
DTSTAMP:20260421T084820
CREATED:20251229T024709Z
LAST-MODIFIED:20251229T030453Z
UID:10004692-1766966400-1799107199@www.revesbypacifichotel.com.au
SUMMARY:Meat Raffle Fridays
DESCRIPTION:Our Meat Tray Raffles run every Friday from 6pm–7pm\, with one ticket for every drink purchased. Make sure you’re a Pub+ member to get involved. T&Cs apply.
URL:https://www.revesbypacifichotel.com.au/event/meat-raffle-fridays/2025-12-29/
CATEGORIES:What's On
ATTACH;FMTTYPE=image/png:https://www.revesbypacifichotel.com.au/wp-content/uploads/2025/12/Untitled-design-11.png
END:VEVENT
BEGIN:VEVENT
DTSTART;VALUE=DATE:20260105
DTEND;VALUE=DATE:20270112
DTSTAMP:20260421T084820
CREATED:20251229T024709Z
LAST-MODIFIED:20251229T030453Z
UID:10004693-1767571200-1799711999@www.revesbypacifichotel.com.au
SUMMARY:Meat Raffle Fridays
DESCRIPTION:Our Meat Tray Raffles run every Friday from 6pm–7pm\, with one ticket for every drink purchased. Make sure you’re a Pub+ member to get involved. T&Cs apply.
URL:https://www.revesbypacifichotel.com.au/event/meat-raffle-fridays/2026-01-05/
CATEGORIES:What's On
ATTACH;FMTTYPE=image/png:https://www.revesbypacifichotel.com.au/wp-content/uploads/2025/12/Untitled-design-11.png
END:VEVENT
BEGIN:VEVENT
DTSTART;VALUE=DATE:20260112
DTEND;VALUE=DATE:20270119
DTSTAMP:20260421T084820
CREATED:20251229T024709Z
LAST-MODIFIED:20251229T030453Z
UID:10004694-1768176000-1800316799@www.revesbypacifichotel.com.au
SUMMARY:Meat Raffle Fridays
DESCRIPTION:Our Meat Tray Raffles run every Friday from 6pm–7pm\, with one ticket for every drink purchased. Make sure you’re a Pub+ member to get involved. T&Cs apply.
URL:https://www.revesbypacifichotel.com.au/event/meat-raffle-fridays/2026-01-12/
CATEGORIES:What's On
ATTACH;FMTTYPE=image/png:https://www.revesbypacifichotel.com.au/wp-content/uploads/2025/12/Untitled-design-11.png
END:VEVENT
BEGIN:VEVENT
DTSTART;VALUE=DATE:20260119
DTEND;VALUE=DATE:20270126
DTSTAMP:20260421T084820
CREATED:20251229T024709Z
LAST-MODIFIED:20251229T030453Z
UID:10004695-1768780800-1800921599@www.revesbypacifichotel.com.au
SUMMARY:Meat Raffle Fridays
DESCRIPTION:Our Meat Tray Raffles run every Friday from 6pm–7pm\, with one ticket for every drink purchased. Make sure you’re a Pub+ member to get involved. T&Cs apply.
URL:https://www.revesbypacifichotel.com.au/event/meat-raffle-fridays/2026-01-19/
CATEGORIES:What's On
ATTACH;FMTTYPE=image/png:https://www.revesbypacifichotel.com.au/wp-content/uploads/2025/12/Untitled-design-11.png
END:VEVENT
BEGIN:VEVENT
DTSTART;VALUE=DATE:20260126
DTEND;VALUE=DATE:20270202
DTSTAMP:20260421T084820
CREATED:20251229T024709Z
LAST-MODIFIED:20251229T030453Z
UID:10004696-1769385600-1801526399@www.revesbypacifichotel.com.au
SUMMARY:Meat Raffle Fridays
DESCRIPTION:Our Meat Tray Raffles run every Friday from 6pm–7pm\, with one ticket for every drink purchased. Make sure you’re a Pub+ member to get involved. T&Cs apply.
URL:https://www.revesbypacifichotel.com.au/event/meat-raffle-fridays/2026-01-26/
CATEGORIES:What's On
ATTACH;FMTTYPE=image/png:https://www.revesbypacifichotel.com.au/wp-content/uploads/2025/12/Untitled-design-11.png
END:VEVENT
BEGIN:VEVENT
DTSTART;VALUE=DATE:20260202
DTEND;VALUE=DATE:20270209
DTSTAMP:20260421T084820
CREATED:20251229T024709Z
LAST-MODIFIED:20251229T030453Z
UID:10004697-1769990400-1802131199@www.revesbypacifichotel.com.au
SUMMARY:Meat Raffle Fridays
DESCRIPTION:Our Meat Tray Raffles run every Friday from 6pm–7pm\, with one ticket for every drink purchased. Make sure you’re a Pub+ member to get involved. T&Cs apply.
URL:https://www.revesbypacifichotel.com.au/event/meat-raffle-fridays/2026-02-02/
CATEGORIES:What's On
ATTACH;FMTTYPE=image/png:https://www.revesbypacifichotel.com.au/wp-content/uploads/2025/12/Untitled-design-11.png
END:VEVENT
BEGIN:VEVENT
DTSTART;VALUE=DATE:20260209
DTEND;VALUE=DATE:20270216
DTSTAMP:20260421T084820
CREATED:20251229T024709Z
LAST-MODIFIED:20251229T030453Z
UID:10004698-1770595200-1802735999@www.revesbypacifichotel.com.au
SUMMARY:Meat Raffle Fridays
DESCRIPTION:Our Meat Tray Raffles run every Friday from 6pm–7pm\, with one ticket for every drink purchased. Make sure you’re a Pub+ member to get involved. T&Cs apply.
URL:https://www.revesbypacifichotel.com.au/event/meat-raffle-fridays/2026-02-09/
CATEGORIES:What's On
ATTACH;FMTTYPE=image/png:https://www.revesbypacifichotel.com.au/wp-content/uploads/2025/12/Untitled-design-11.png
END:VEVENT
BEGIN:VEVENT
DTSTART;VALUE=DATE:20260216
DTEND;VALUE=DATE:20270223
DTSTAMP:20260421T084820
CREATED:20251229T024709Z
LAST-MODIFIED:20251229T030453Z
UID:10004699-1771200000-1803340799@www.revesbypacifichotel.com.au
SUMMARY:Meat Raffle Fridays
DESCRIPTION:Our Meat Tray Raffles run every Friday from 6pm–7pm\, with one ticket for every drink purchased. Make sure you’re a Pub+ member to get involved. T&Cs apply.
URL:https://www.revesbypacifichotel.com.au/event/meat-raffle-fridays/2026-02-16/
CATEGORIES:What's On
ATTACH;FMTTYPE=image/png:https://www.revesbypacifichotel.com.au/wp-content/uploads/2025/12/Untitled-design-11.png
END:VEVENT
BEGIN:VEVENT
DTSTART;VALUE=DATE:20260223
DTEND;VALUE=DATE:20270302
DTSTAMP:20260421T084820
CREATED:20251229T024709Z
LAST-MODIFIED:20251229T030453Z
UID:10004700-1771804800-1803945599@www.revesbypacifichotel.com.au
SUMMARY:Meat Raffle Fridays
DESCRIPTION:Our Meat Tray Raffles run every Friday from 6pm–7pm\, with one ticket for every drink purchased. Make sure you’re a Pub+ member to get involved. T&Cs apply.
URL:https://www.revesbypacifichotel.com.au/event/meat-raffle-fridays/2026-02-23/
CATEGORIES:What's On
ATTACH;FMTTYPE=image/png:https://www.revesbypacifichotel.com.au/wp-content/uploads/2025/12/Untitled-design-11.png
END:VEVENT
BEGIN:VEVENT
DTSTART;VALUE=DATE:20260302
DTEND;VALUE=DATE:20270309
DTSTAMP:20260421T084820
CREATED:20251229T024709Z
LAST-MODIFIED:20251229T030453Z
UID:10004701-1772409600-1804550399@www.revesbypacifichotel.com.au
SUMMARY:Meat Raffle Fridays
DESCRIPTION:Our Meat Tray Raffles run every Friday from 6pm–7pm\, with one ticket for every drink purchased. Make sure you’re a Pub+ member to get involved. T&Cs apply.
URL:https://www.revesbypacifichotel.com.au/event/meat-raffle-fridays/2026-03-02/
CATEGORIES:What's On
ATTACH;FMTTYPE=image/png:https://www.revesbypacifichotel.com.au/wp-content/uploads/2025/12/Untitled-design-11.png
END:VEVENT
BEGIN:VEVENT
DTSTART;VALUE=DATE:20260309
DTEND;VALUE=DATE:20270316
DTSTAMP:20260421T084820
CREATED:20251229T024709Z
LAST-MODIFIED:20251229T030453Z
UID:10004702-1773014400-1805155199@www.revesbypacifichotel.com.au
SUMMARY:Meat Raffle Fridays
DESCRIPTION:Our Meat Tray Raffles run every Friday from 6pm–7pm\, with one ticket for every drink purchased. Make sure you’re a Pub+ member to get involved. T&Cs apply.
URL:https://www.revesbypacifichotel.com.au/event/meat-raffle-fridays/2026-03-09/
CATEGORIES:What's On
ATTACH;FMTTYPE=image/png:https://www.revesbypacifichotel.com.au/wp-content/uploads/2025/12/Untitled-design-11.png
END:VEVENT
BEGIN:VEVENT
DTSTART;VALUE=DATE:20260316
DTEND;VALUE=DATE:20270323
DTSTAMP:20260421T084820
CREATED:20251229T024709Z
LAST-MODIFIED:20251229T030453Z
UID:10004703-1773619200-1805759999@www.revesbypacifichotel.com.au
SUMMARY:Meat Raffle Fridays
DESCRIPTION:Our Meat Tray Raffles run every Friday from 6pm–7pm\, with one ticket for every drink purchased. Make sure you’re a Pub+ member to get involved. T&Cs apply.
URL:https://www.revesbypacifichotel.com.au/event/meat-raffle-fridays/2026-03-16/
CATEGORIES:What's On
ATTACH;FMTTYPE=image/png:https://www.revesbypacifichotel.com.au/wp-content/uploads/2025/12/Untitled-design-11.png
END:VEVENT
BEGIN:VEVENT
DTSTART;VALUE=DATE:20260323
DTEND;VALUE=DATE:20270330
DTSTAMP:20260421T084820
CREATED:20251229T024709Z
LAST-MODIFIED:20251229T030453Z
UID:10004704-1774224000-1806364799@www.revesbypacifichotel.com.au
SUMMARY:Meat Raffle Fridays
DESCRIPTION:Our Meat Tray Raffles run every Friday from 6pm–7pm\, with one ticket for every drink purchased. Make sure you’re a Pub+ member to get involved. T&Cs apply.
URL:https://www.revesbypacifichotel.com.au/event/meat-raffle-fridays/2026-03-23/
CATEGORIES:What's On
ATTACH;FMTTYPE=image/png:https://www.revesbypacifichotel.com.au/wp-content/uploads/2025/12/Untitled-design-11.png
END:VEVENT
BEGIN:VEVENT
DTSTART;VALUE=DATE:20260330
DTEND;VALUE=DATE:20270406
DTSTAMP:20260421T084820
CREATED:20251229T024709Z
LAST-MODIFIED:20251229T030453Z
UID:10004705-1774828800-1806969599@www.revesbypacifichotel.com.au
SUMMARY:Meat Raffle Fridays
DESCRIPTION:Our Meat Tray Raffles run every Friday from 6pm–7pm\, with one ticket for every drink purchased. Make sure you’re a Pub+ member to get involved. T&Cs apply.
URL:https://www.revesbypacifichotel.com.au/event/meat-raffle-fridays/2026-03-30/
CATEGORIES:What's On
ATTACH;FMTTYPE=image/png:https://www.revesbypacifichotel.com.au/wp-content/uploads/2025/12/Untitled-design-11.png
END:VEVENT
BEGIN:VEVENT
DTSTART;VALUE=DATE:20260406
DTEND;VALUE=DATE:20270413
DTSTAMP:20260421T084820
CREATED:20251229T024709Z
LAST-MODIFIED:20251229T030453Z
UID:10004706-1775433600-1807574399@www.revesbypacifichotel.com.au
SUMMARY:Meat Raffle Fridays
DESCRIPTION:Our Meat Tray Raffles run every Friday from 6pm–7pm\, with one ticket for every drink purchased. Make sure you’re a Pub+ member to get involved. T&Cs apply.
URL:https://www.revesbypacifichotel.com.au/event/meat-raffle-fridays/2026-04-06/
CATEGORIES:What's On
ATTACH;FMTTYPE=image/png:https://www.revesbypacifichotel.com.au/wp-content/uploads/2025/12/Untitled-design-11.png
END:VEVENT
BEGIN:VEVENT
DTSTART;VALUE=DATE:20260413
DTEND;VALUE=DATE:20270420
DTSTAMP:20260421T084820
CREATED:20251229T024709Z
LAST-MODIFIED:20251229T030453Z
UID:10004707-1776038400-1808179199@www.revesbypacifichotel.com.au
SUMMARY:Meat Raffle Fridays
DESCRIPTION:Our Meat Tray Raffles run every Friday from 6pm–7pm\, with one ticket for every drink purchased. Make sure you’re a Pub+ member to get involved. T&Cs apply.
URL:https://www.revesbypacifichotel.com.au/event/meat-raffle-fridays/2026-04-13/
CATEGORIES:What's On
ATTACH;FMTTYPE=image/png:https://www.revesbypacifichotel.com.au/wp-content/uploads/2025/12/Untitled-design-11.png
END:VEVENT
BEGIN:VEVENT
DTSTART;VALUE=DATE:20260420
DTEND;VALUE=DATE:20270427
DTSTAMP:20260421T084820
CREATED:20251229T024709Z
LAST-MODIFIED:20251229T030453Z
UID:10004708-1776643200-1808783999@www.revesbypacifichotel.com.au
SUMMARY:Meat Raffle Fridays
DESCRIPTION:Our Meat Tray Raffles run every Friday from 6pm–7pm\, with one ticket for every drink purchased. Make sure you’re a Pub+ member to get involved. T&Cs apply.
URL:https://www.revesbypacifichotel.com.au/event/meat-raffle-fridays/2026-04-20/
CATEGORIES:What's On
ATTACH;FMTTYPE=image/png:https://www.revesbypacifichotel.com.au/wp-content/uploads/2025/12/Untitled-design-11.png
END:VEVENT
BEGIN:VEVENT
DTSTART;VALUE=DATE:20260421
DTEND;VALUE=DATE:20260422
DTSTAMP:20260421T084820
CREATED:20251229T023912Z
LAST-MODIFIED:20251229T023941Z
UID:10002347-1776729600-1776815999@www.revesbypacifichotel.com.au
SUMMARY:$15 Menu
DESCRIPTION:Enjoy our $15 Menu featuring classic comfort favourites\, available for a great-value dine-in option!
URL:https://www.revesbypacifichotel.com.au/event/15-menu/2026-04-21/
CATEGORIES:What's On
END:VEVENT
BEGIN:VEVENT
DTSTART;TZID=UTC:20260421T160000
DTEND;TZID=UTC:20260421T180000
DTSTAMP:20260421T084820
CREATED:20251116T160324Z
LAST-MODIFIED:20251229T031402Z
UID:10001702-1776787200-1776794400@www.revesbypacifichotel.com.au
SUMMARY:Happy Hour
DESCRIPTION:Kick back with our $5 great value from 4pm–6pm during Members Happy Hour.
URL:https://www.revesbypacifichotel.com.au/event/happy-hour/2026-04-21/
CATEGORIES:What's On
END:VEVENT
BEGIN:VEVENT
DTSTART;TZID=UTC:20260421T180000
DTEND;TZID=UTC:20260421T200000
DTSTAMP:20260421T084820
CREATED:20251229T034233Z
LAST-MODIFIED:20251229T034636Z
UID:10005608-1776794400-1776801600@www.revesbypacifichotel.com.au
SUMMARY:Joker Poker Thursdays
DESCRIPTION:With jackpots starting at $500 and increasing by $100 every week\, all you need to do is purchase a drink with your Pub+ card between 6pm and 7pm to be in the draw at 7pm. T&Cs apply.
URL:https://www.revesbypacifichotel.com.au/event/joker-poker-thursdays/2026-04-21/
CATEGORIES:What's On
ATTACH;FMTTYPE=image/png:https://www.revesbypacifichotel.com.au/wp-content/uploads/2025/12/Untitled-design-12.png
END:VEVENT
BEGIN:VEVENT
DTSTART;VALUE=DATE:20260422
DTEND;VALUE=DATE:20260423
DTSTAMP:20260421T084820
CREATED:20251229T023912Z
LAST-MODIFIED:20251229T023941Z
UID:10002348-1776816000-1776902399@www.revesbypacifichotel.com.au
SUMMARY:$15 Menu
DESCRIPTION:Enjoy our $15 Menu featuring classic comfort favourites\, available for a great-value dine-in option!
URL:https://www.revesbypacifichotel.com.au/event/15-menu/2026-04-22/
CATEGORIES:What's On
END:VEVENT
BEGIN:VEVENT
DTSTART;TZID=UTC:20260422T160000
DTEND;TZID=UTC:20260422T180000
DTSTAMP:20260421T084820
CREATED:20251116T160324Z
LAST-MODIFIED:20251229T031402Z
UID:10001703-1776873600-1776880800@www.revesbypacifichotel.com.au
SUMMARY:Happy Hour
DESCRIPTION:Kick back with our $5 great value from 4pm–6pm during Members Happy Hour.
URL:https://www.revesbypacifichotel.com.au/event/happy-hour/2026-04-22/
CATEGORIES:What's On
END:VEVENT
BEGIN:VEVENT
DTSTART;TZID=UTC:20260422T180000
DTEND;TZID=UTC:20260422T200000
DTSTAMP:20260421T084820
CREATED:20251229T034233Z
LAST-MODIFIED:20251229T034636Z
UID:10005609-1776880800-1776888000@www.revesbypacifichotel.com.au
SUMMARY:Joker Poker Thursdays
DESCRIPTION:With jackpots starting at $500 and increasing by $100 every week\, all you need to do is purchase a drink with your Pub+ card between 6pm and 7pm to be in the draw at 7pm. T&Cs apply.
URL:https://www.revesbypacifichotel.com.au/event/joker-poker-thursdays/2026-04-22/
CATEGORIES:What's On
ATTACH;FMTTYPE=image/png:https://www.revesbypacifichotel.com.au/wp-content/uploads/2025/12/Untitled-design-12.png
END:VEVENT
BEGIN:VEVENT
DTSTART;VALUE=DATE:20260423
DTEND;VALUE=DATE:20260424
DTSTAMP:20260421T084820
CREATED:20251229T023912Z
LAST-MODIFIED:20251229T023941Z
UID:10002349-1776902400-1776988799@www.revesbypacifichotel.com.au
SUMMARY:$15 Menu
DESCRIPTION:Enjoy our $15 Menu featuring classic comfort favourites\, available for a great-value dine-in option!
URL:https://www.revesbypacifichotel.com.au/event/15-menu/2026-04-23/
CATEGORIES:What's On
END:VEVENT
BEGIN:VEVENT
DTSTART;TZID=UTC:20260423T160000
DTEND;TZID=UTC:20260423T180000
DTSTAMP:20260421T084820
CREATED:20251116T160324Z
LAST-MODIFIED:20251229T031402Z
UID:10001704-1776960000-1776967200@www.revesbypacifichotel.com.au
SUMMARY:Happy Hour
DESCRIPTION:Kick back with our $5 great value from 4pm–6pm during Members Happy Hour.
URL:https://www.revesbypacifichotel.com.au/event/happy-hour/2026-04-23/
CATEGORIES:What's On
END:VEVENT
BEGIN:VEVENT
DTSTART;TZID=UTC:20260423T180000
DTEND;TZID=UTC:20260423T200000
DTSTAMP:20260421T084820
CREATED:20251229T034233Z
LAST-MODIFIED:20251229T034636Z
UID:10005022-1776967200-1776974400@www.revesbypacifichotel.com.au
SUMMARY:Joker Poker Thursdays
DESCRIPTION:With jackpots starting at $500 and increasing by $100 every week\, all you need to do is purchase a drink with your Pub+ card between 6pm and 7pm to be in the draw at 7pm. T&Cs apply.
URL:https://www.revesbypacifichotel.com.au/event/joker-poker-thursdays/2026-04-23/
CATEGORIES:What's On
ATTACH;FMTTYPE=image/png:https://www.revesbypacifichotel.com.au/wp-content/uploads/2025/12/Untitled-design-12.png
END:VEVENT
BEGIN:VEVENT
DTSTART;VALUE=DATE:20260424
DTEND;VALUE=DATE:20260425
DTSTAMP:20260421T084820
CREATED:20251229T023912Z
LAST-MODIFIED:20251229T023941Z
UID:10002350-1776988800-1777075199@www.revesbypacifichotel.com.au
SUMMARY:$15 Menu
DESCRIPTION:Enjoy our $15 Menu featuring classic comfort favourites\, available for a great-value dine-in option!
URL:https://www.revesbypacifichotel.com.au/event/15-menu/2026-04-24/
CATEGORIES:What's On
END:VEVENT
BEGIN:VEVENT
DTSTART;TZID=UTC:20260424T160000
DTEND;TZID=UTC:20260424T180000
DTSTAMP:20260421T084820
CREATED:20251116T160324Z
LAST-MODIFIED:20251229T031402Z
UID:10001705-1777046400-1777053600@www.revesbypacifichotel.com.au
SUMMARY:Happy Hour
DESCRIPTION:Kick back with our $5 great value from 4pm–6pm during Members Happy Hour.
URL:https://www.revesbypacifichotel.com.au/event/happy-hour/2026-04-24/
CATEGORIES:What's On
END:VEVENT
BEGIN:VEVENT
DTSTART;TZID=UTC:20260424T180000
DTEND;TZID=UTC:20260424T200000
DTSTAMP:20260421T084820
CREATED:20251229T034233Z
LAST-MODIFIED:20251229T034636Z
UID:10005610-1777053600-1777060800@www.revesbypacifichotel.com.au
SUMMARY:Joker Poker Thursdays
DESCRIPTION:With jackpots starting at $500 and increasing by $100 every week\, all you need to do is purchase a drink with your Pub+ card between 6pm and 7pm to be in the draw at 7pm. T&Cs apply.
URL:https://www.revesbypacifichotel.com.au/event/joker-poker-thursdays/2026-04-24/
CATEGORIES:What's On
ATTACH;FMTTYPE=image/png:https://www.revesbypacifichotel.com.au/wp-content/uploads/2025/12/Untitled-design-12.png
END:VEVENT
BEGIN:VEVENT
DTSTART;VALUE=DATE:20260425
DTEND;VALUE=DATE:20260426
DTSTAMP:20260421T084820
CREATED:20251229T023912Z
LAST-MODIFIED:20251229T023941Z
UID:10002351-1777075200-1777161599@www.revesbypacifichotel.com.au
SUMMARY:$15 Menu
DESCRIPTION:Enjoy our $15 Menu featuring classic comfort favourites\, available for a great-value dine-in option!
URL:https://www.revesbypacifichotel.com.au/event/15-menu/2026-04-25/
CATEGORIES:What's On
END:VEVENT
END:VCALENDAR