BEGIN:VCALENDAR
VERSION:2.0
PRODID:-//Revesby Pacific Hotel - ECPv6.15.13//NONSGML v1.0//EN
CALSCALE:GREGORIAN
METHOD:PUBLISH
X-WR-CALNAME:Revesby Pacific Hotel
X-ORIGINAL-URL:https://www.revesbypacifichotel.com.au
X-WR-CALDESC:Events for Revesby Pacific Hotel
REFRESH-INTERVAL;VALUE=DURATION:PT1H
X-Robots-Tag:noindex
X-PUBLISHED-TTL:PT1H
BEGIN:VTIMEZONE
TZID:UTC
BEGIN:STANDARD
TZOFFSETFROM:+0000
TZOFFSETTO:+0000
TZNAME:UTC
DTSTART:20250101T000000
END:STANDARD
END:VTIMEZONE
BEGIN:VTIMEZONE
TZID:UTC
BEGIN:STANDARD
TZOFFSETFROM:+0000
TZOFFSETTO:+0000
TZNAME:UTC
DTSTART:20250101T000000
END:STANDARD
END:VTIMEZONE
BEGIN:VEVENT
DTSTART;TZID=UTC:20260322T180000
DTEND;TZID=UTC:20260322T200000
DTSTAMP:20260420T160839
CREATED:20251229T034233Z
LAST-MODIFIED:20251229T034636Z
UID:10005587-1774202400-1774209600@www.revesbypacifichotel.com.au
SUMMARY:Joker Poker Thursdays
DESCRIPTION:With jackpots starting at $500 and increasing by $100 every week\, all you need to do is purchase a drink with your Pub+ card between 6pm and 7pm to be in the draw at 7pm. T&Cs apply.
URL:https://www.revesbypacifichotel.com.au/event/joker-poker-thursdays/2026-03-22/
CATEGORIES:What's On
ATTACH;FMTTYPE=image/png:https://www.revesbypacifichotel.com.au/wp-content/uploads/2025/12/Untitled-design-12.png
END:VEVENT
BEGIN:VEVENT
DTSTART;VALUE=DATE:20260322
DTEND;VALUE=DATE:20260323
DTSTAMP:20260420T160839
CREATED:20251229T023912Z
LAST-MODIFIED:20251229T023941Z
UID:10002317-1774137600-1774223999@www.revesbypacifichotel.com.au
SUMMARY:$15 Menu
DESCRIPTION:Enjoy our $15 Menu featuring classic comfort favourites\, available for a great-value dine-in option!
URL:https://www.revesbypacifichotel.com.au/event/15-menu/2026-03-22/
CATEGORIES:What's On
END:VEVENT
BEGIN:VEVENT
DTSTART;TZID=UTC:20260321T180000
DTEND;TZID=UTC:20260321T200000
DTSTAMP:20260420T160839
CREATED:20251229T034233Z
LAST-MODIFIED:20251229T034636Z
UID:10005586-1774116000-1774123200@www.revesbypacifichotel.com.au
SUMMARY:Joker Poker Thursdays
DESCRIPTION:With jackpots starting at $500 and increasing by $100 every week\, all you need to do is purchase a drink with your Pub+ card between 6pm and 7pm to be in the draw at 7pm. T&Cs apply.
URL:https://www.revesbypacifichotel.com.au/event/joker-poker-thursdays/2026-03-21/
CATEGORIES:What's On
ATTACH;FMTTYPE=image/png:https://www.revesbypacifichotel.com.au/wp-content/uploads/2025/12/Untitled-design-12.png
END:VEVENT
BEGIN:VEVENT
DTSTART;TZID=UTC:20260321T160000
DTEND;TZID=UTC:20260321T180000
DTSTAMP:20260420T160839
CREATED:20251116T160324Z
LAST-MODIFIED:20251229T031402Z
UID:10001676-1774108800-1774116000@www.revesbypacifichotel.com.au
SUMMARY:Happy Hour
DESCRIPTION:Kick back with our $5 great value from 4pm–6pm during Members Happy Hour.
URL:https://www.revesbypacifichotel.com.au/event/happy-hour/2026-03-21/
CATEGORIES:What's On
END:VEVENT
BEGIN:VEVENT
DTSTART;VALUE=DATE:20260321
DTEND;VALUE=DATE:20260322
DTSTAMP:20260420T160839
CREATED:20251229T023912Z
LAST-MODIFIED:20251229T023941Z
UID:10002316-1774051200-1774137599@www.revesbypacifichotel.com.au
SUMMARY:$15 Menu
DESCRIPTION:Enjoy our $15 Menu featuring classic comfort favourites\, available for a great-value dine-in option!
URL:https://www.revesbypacifichotel.com.au/event/15-menu/2026-03-21/
CATEGORIES:What's On
END:VEVENT
BEGIN:VEVENT
DTSTART;TZID=UTC:20260320T180000
DTEND;TZID=UTC:20260320T200000
DTSTAMP:20260420T160839
CREATED:20251229T034233Z
LAST-MODIFIED:20251229T034636Z
UID:10005585-1774029600-1774036800@www.revesbypacifichotel.com.au
SUMMARY:Joker Poker Thursdays
DESCRIPTION:With jackpots starting at $500 and increasing by $100 every week\, all you need to do is purchase a drink with your Pub+ card between 6pm and 7pm to be in the draw at 7pm. T&Cs apply.
URL:https://www.revesbypacifichotel.com.au/event/joker-poker-thursdays/2026-03-20/
CATEGORIES:What's On
ATTACH;FMTTYPE=image/png:https://www.revesbypacifichotel.com.au/wp-content/uploads/2025/12/Untitled-design-12.png
END:VEVENT
BEGIN:VEVENT
DTSTART;TZID=UTC:20260320T160000
DTEND;TZID=UTC:20260320T180000
DTSTAMP:20260420T160839
CREATED:20251116T160324Z
LAST-MODIFIED:20251229T031402Z
UID:10001675-1774022400-1774029600@www.revesbypacifichotel.com.au
SUMMARY:Happy Hour
DESCRIPTION:Kick back with our $5 great value from 4pm–6pm during Members Happy Hour.
URL:https://www.revesbypacifichotel.com.au/event/happy-hour/2026-03-20/
CATEGORIES:What's On
END:VEVENT
BEGIN:VEVENT
DTSTART;VALUE=DATE:20260320
DTEND;VALUE=DATE:20260321
DTSTAMP:20260420T160839
CREATED:20251229T023912Z
LAST-MODIFIED:20251229T023941Z
UID:10002315-1773964800-1774051199@www.revesbypacifichotel.com.au
SUMMARY:$15 Menu
DESCRIPTION:Enjoy our $15 Menu featuring classic comfort favourites\, available for a great-value dine-in option!
URL:https://www.revesbypacifichotel.com.au/event/15-menu/2026-03-20/
CATEGORIES:What's On
END:VEVENT
BEGIN:VEVENT
DTSTART;TZID=UTC:20260319T180000
DTEND;TZID=UTC:20260319T200000
DTSTAMP:20260420T160839
CREATED:20251229T034233Z
LAST-MODIFIED:20251229T034636Z
UID:10005017-1773943200-1773950400@www.revesbypacifichotel.com.au
SUMMARY:Joker Poker Thursdays
DESCRIPTION:With jackpots starting at $500 and increasing by $100 every week\, all you need to do is purchase a drink with your Pub+ card between 6pm and 7pm to be in the draw at 7pm. T&Cs apply.
URL:https://www.revesbypacifichotel.com.au/event/joker-poker-thursdays/2026-03-19/
CATEGORIES:What's On
ATTACH;FMTTYPE=image/png:https://www.revesbypacifichotel.com.au/wp-content/uploads/2025/12/Untitled-design-12.png
END:VEVENT
BEGIN:VEVENT
DTSTART;TZID=UTC:20260319T160000
DTEND;TZID=UTC:20260319T180000
DTSTAMP:20260420T160839
CREATED:20251116T160324Z
LAST-MODIFIED:20251229T031402Z
UID:10001674-1773936000-1773943200@www.revesbypacifichotel.com.au
SUMMARY:Happy Hour
DESCRIPTION:Kick back with our $5 great value from 4pm–6pm during Members Happy Hour.
URL:https://www.revesbypacifichotel.com.au/event/happy-hour/2026-03-19/
CATEGORIES:What's On
END:VEVENT
BEGIN:VEVENT
DTSTART;VALUE=DATE:20260319
DTEND;VALUE=DATE:20260320
DTSTAMP:20260420T160839
CREATED:20251229T023912Z
LAST-MODIFIED:20251229T023941Z
UID:10002314-1773878400-1773964799@www.revesbypacifichotel.com.au
SUMMARY:$15 Menu
DESCRIPTION:Enjoy our $15 Menu featuring classic comfort favourites\, available for a great-value dine-in option!
URL:https://www.revesbypacifichotel.com.au/event/15-menu/2026-03-19/
CATEGORIES:What's On
END:VEVENT
BEGIN:VEVENT
DTSTART;TZID=UTC:20260318T180000
DTEND;TZID=UTC:20260318T200000
DTSTAMP:20260420T160839
CREATED:20251229T034233Z
LAST-MODIFIED:20251229T034636Z
UID:10005584-1773856800-1773864000@www.revesbypacifichotel.com.au
SUMMARY:Joker Poker Thursdays
DESCRIPTION:With jackpots starting at $500 and increasing by $100 every week\, all you need to do is purchase a drink with your Pub+ card between 6pm and 7pm to be in the draw at 7pm. T&Cs apply.
URL:https://www.revesbypacifichotel.com.au/event/joker-poker-thursdays/2026-03-18/
CATEGORIES:What's On
ATTACH;FMTTYPE=image/png:https://www.revesbypacifichotel.com.au/wp-content/uploads/2025/12/Untitled-design-12.png
END:VEVENT
BEGIN:VEVENT
DTSTART;TZID=UTC:20260318T160000
DTEND;TZID=UTC:20260318T180000
DTSTAMP:20260420T160839
CREATED:20251116T160324Z
LAST-MODIFIED:20251229T031402Z
UID:10001673-1773849600-1773856800@www.revesbypacifichotel.com.au
SUMMARY:Happy Hour
DESCRIPTION:Kick back with our $5 great value from 4pm–6pm during Members Happy Hour.
URL:https://www.revesbypacifichotel.com.au/event/happy-hour/2026-03-18/
CATEGORIES:What's On
END:VEVENT
BEGIN:VEVENT
DTSTART;VALUE=DATE:20260318
DTEND;VALUE=DATE:20260319
DTSTAMP:20260420T160839
CREATED:20251229T023912Z
LAST-MODIFIED:20251229T023941Z
UID:10002313-1773792000-1773878399@www.revesbypacifichotel.com.au
SUMMARY:$15 Menu
DESCRIPTION:Enjoy our $15 Menu featuring classic comfort favourites\, available for a great-value dine-in option!
URL:https://www.revesbypacifichotel.com.au/event/15-menu/2026-03-18/
CATEGORIES:What's On
END:VEVENT
BEGIN:VEVENT
DTSTART;TZID=UTC:20260317T180000
DTEND;TZID=UTC:20260317T200000
DTSTAMP:20260420T160839
CREATED:20251229T034233Z
LAST-MODIFIED:20251229T034636Z
UID:10005583-1773770400-1773777600@www.revesbypacifichotel.com.au
SUMMARY:Joker Poker Thursdays
DESCRIPTION:With jackpots starting at $500 and increasing by $100 every week\, all you need to do is purchase a drink with your Pub+ card between 6pm and 7pm to be in the draw at 7pm. T&Cs apply.
URL:https://www.revesbypacifichotel.com.au/event/joker-poker-thursdays/2026-03-17/
CATEGORIES:What's On
ATTACH;FMTTYPE=image/png:https://www.revesbypacifichotel.com.au/wp-content/uploads/2025/12/Untitled-design-12.png
END:VEVENT
BEGIN:VEVENT
DTSTART;TZID=UTC:20260317T160000
DTEND;TZID=UTC:20260317T180000
DTSTAMP:20260420T160839
CREATED:20251116T160324Z
LAST-MODIFIED:20251229T031402Z
UID:10001672-1773763200-1773770400@www.revesbypacifichotel.com.au
SUMMARY:Happy Hour
DESCRIPTION:Kick back with our $5 great value from 4pm–6pm during Members Happy Hour.
URL:https://www.revesbypacifichotel.com.au/event/happy-hour/2026-03-17/
CATEGORIES:What's On
END:VEVENT
BEGIN:VEVENT
DTSTART;VALUE=DATE:20260317
DTEND;VALUE=DATE:20260318
DTSTAMP:20260420T160839
CREATED:20251229T023912Z
LAST-MODIFIED:20251229T023941Z
UID:10002312-1773705600-1773791999@www.revesbypacifichotel.com.au
SUMMARY:$15 Menu
DESCRIPTION:Enjoy our $15 Menu featuring classic comfort favourites\, available for a great-value dine-in option!
URL:https://www.revesbypacifichotel.com.au/event/15-menu/2026-03-17/
CATEGORIES:What's On
END:VEVENT
BEGIN:VEVENT
DTSTART;TZID=UTC:20260316T180000
DTEND;TZID=UTC:20260316T200000
DTSTAMP:20260420T160839
CREATED:20251229T034233Z
LAST-MODIFIED:20251229T034636Z
UID:10005278-1773684000-1773691200@www.revesbypacifichotel.com.au
SUMMARY:Joker Poker Thursdays
DESCRIPTION:With jackpots starting at $500 and increasing by $100 every week\, all you need to do is purchase a drink with your Pub+ card between 6pm and 7pm to be in the draw at 7pm. T&Cs apply.
URL:https://www.revesbypacifichotel.com.au/event/joker-poker-thursdays/2026-03-16/
CATEGORIES:What's On
ATTACH;FMTTYPE=image/png:https://www.revesbypacifichotel.com.au/wp-content/uploads/2025/12/Untitled-design-12.png
END:VEVENT
BEGIN:VEVENT
DTSTART;TZID=UTC:20260316T160000
DTEND;TZID=UTC:20260316T180000
DTSTAMP:20260420T160839
CREATED:20251116T160324Z
LAST-MODIFIED:20251229T031402Z
UID:10001671-1773676800-1773684000@www.revesbypacifichotel.com.au
SUMMARY:Happy Hour
DESCRIPTION:Kick back with our $5 great value from 4pm–6pm during Members Happy Hour.
URL:https://www.revesbypacifichotel.com.au/event/happy-hour/2026-03-16/
CATEGORIES:What's On
END:VEVENT
BEGIN:VEVENT
DTSTART;VALUE=DATE:20260316
DTEND;VALUE=DATE:20260317
DTSTAMP:20260420T160839
CREATED:20251229T023912Z
LAST-MODIFIED:20251229T023941Z
UID:10002311-1773619200-1773705599@www.revesbypacifichotel.com.au
SUMMARY:$15 Menu
DESCRIPTION:Enjoy our $15 Menu featuring classic comfort favourites\, available for a great-value dine-in option!
URL:https://www.revesbypacifichotel.com.au/event/15-menu/2026-03-16/
CATEGORIES:What's On
END:VEVENT
BEGIN:VEVENT
DTSTART;TZID=UTC:20260315T180000
DTEND;TZID=UTC:20260315T200000
DTSTAMP:20260420T160839
CREATED:20251229T034233Z
LAST-MODIFIED:20251229T034636Z
UID:10005582-1773597600-1773604800@www.revesbypacifichotel.com.au
SUMMARY:Joker Poker Thursdays
DESCRIPTION:With jackpots starting at $500 and increasing by $100 every week\, all you need to do is purchase a drink with your Pub+ card between 6pm and 7pm to be in the draw at 7pm. T&Cs apply.
URL:https://www.revesbypacifichotel.com.au/event/joker-poker-thursdays/2026-03-15/
CATEGORIES:What's On
ATTACH;FMTTYPE=image/png:https://www.revesbypacifichotel.com.au/wp-content/uploads/2025/12/Untitled-design-12.png
END:VEVENT
BEGIN:VEVENT
DTSTART;VALUE=DATE:20260315
DTEND;VALUE=DATE:20260316
DTSTAMP:20260420T160839
CREATED:20251229T023912Z
LAST-MODIFIED:20251229T023941Z
UID:10002310-1773532800-1773619199@www.revesbypacifichotel.com.au
SUMMARY:$15 Menu
DESCRIPTION:Enjoy our $15 Menu featuring classic comfort favourites\, available for a great-value dine-in option!
URL:https://www.revesbypacifichotel.com.au/event/15-menu/2026-03-15/
CATEGORIES:What's On
END:VEVENT
BEGIN:VEVENT
DTSTART;TZID=UTC:20260314T180000
DTEND;TZID=UTC:20260314T200000
DTSTAMP:20260420T160839
CREATED:20251229T034233Z
LAST-MODIFIED:20251229T034636Z
UID:10005581-1773511200-1773518400@www.revesbypacifichotel.com.au
SUMMARY:Joker Poker Thursdays
DESCRIPTION:With jackpots starting at $500 and increasing by $100 every week\, all you need to do is purchase a drink with your Pub+ card between 6pm and 7pm to be in the draw at 7pm. T&Cs apply.
URL:https://www.revesbypacifichotel.com.au/event/joker-poker-thursdays/2026-03-14/
CATEGORIES:What's On
ATTACH;FMTTYPE=image/png:https://www.revesbypacifichotel.com.au/wp-content/uploads/2025/12/Untitled-design-12.png
END:VEVENT
BEGIN:VEVENT
DTSTART;TZID=UTC:20260314T160000
DTEND;TZID=UTC:20260314T180000
DTSTAMP:20260420T160839
CREATED:20251116T160324Z
LAST-MODIFIED:20251229T031402Z
UID:10001670-1773504000-1773511200@www.revesbypacifichotel.com.au
SUMMARY:Happy Hour
DESCRIPTION:Kick back with our $5 great value from 4pm–6pm during Members Happy Hour.
URL:https://www.revesbypacifichotel.com.au/event/happy-hour/2026-03-14/
CATEGORIES:What's On
END:VEVENT
BEGIN:VEVENT
DTSTART;VALUE=DATE:20260314
DTEND;VALUE=DATE:20260315
DTSTAMP:20260420T160839
CREATED:20251229T023912Z
LAST-MODIFIED:20251229T023941Z
UID:10002309-1773446400-1773532799@www.revesbypacifichotel.com.au
SUMMARY:$15 Menu
DESCRIPTION:Enjoy our $15 Menu featuring classic comfort favourites\, available for a great-value dine-in option!
URL:https://www.revesbypacifichotel.com.au/event/15-menu/2026-03-14/
CATEGORIES:What's On
END:VEVENT
BEGIN:VEVENT
DTSTART;TZID=UTC:20260313T180000
DTEND;TZID=UTC:20260313T200000
DTSTAMP:20260420T160839
CREATED:20251229T034233Z
LAST-MODIFIED:20251229T034636Z
UID:10005580-1773424800-1773432000@www.revesbypacifichotel.com.au
SUMMARY:Joker Poker Thursdays
DESCRIPTION:With jackpots starting at $500 and increasing by $100 every week\, all you need to do is purchase a drink with your Pub+ card between 6pm and 7pm to be in the draw at 7pm. T&Cs apply.
URL:https://www.revesbypacifichotel.com.au/event/joker-poker-thursdays/2026-03-13/
CATEGORIES:What's On
ATTACH;FMTTYPE=image/png:https://www.revesbypacifichotel.com.au/wp-content/uploads/2025/12/Untitled-design-12.png
END:VEVENT
BEGIN:VEVENT
DTSTART;TZID=UTC:20260313T160000
DTEND;TZID=UTC:20260313T180000
DTSTAMP:20260420T160839
CREATED:20251116T160324Z
LAST-MODIFIED:20251229T031402Z
UID:10001669-1773417600-1773424800@www.revesbypacifichotel.com.au
SUMMARY:Happy Hour
DESCRIPTION:Kick back with our $5 great value from 4pm–6pm during Members Happy Hour.
URL:https://www.revesbypacifichotel.com.au/event/happy-hour/2026-03-13/
CATEGORIES:What's On
END:VEVENT
BEGIN:VEVENT
DTSTART;VALUE=DATE:20260313
DTEND;VALUE=DATE:20260314
DTSTAMP:20260420T160839
CREATED:20251229T023912Z
LAST-MODIFIED:20251229T023941Z
UID:10002308-1773360000-1773446399@www.revesbypacifichotel.com.au
SUMMARY:$15 Menu
DESCRIPTION:Enjoy our $15 Menu featuring classic comfort favourites\, available for a great-value dine-in option!
URL:https://www.revesbypacifichotel.com.au/event/15-menu/2026-03-13/
CATEGORIES:What's On
END:VEVENT
BEGIN:VEVENT
DTSTART;TZID=UTC:20260312T180000
DTEND;TZID=UTC:20260312T200000
DTSTAMP:20260420T160839
CREATED:20251229T034233Z
LAST-MODIFIED:20251229T034636Z
UID:10005016-1773338400-1773345600@www.revesbypacifichotel.com.au
SUMMARY:Joker Poker Thursdays
DESCRIPTION:With jackpots starting at $500 and increasing by $100 every week\, all you need to do is purchase a drink with your Pub+ card between 6pm and 7pm to be in the draw at 7pm. T&Cs apply.
URL:https://www.revesbypacifichotel.com.au/event/joker-poker-thursdays/2026-03-12/
CATEGORIES:What's On
ATTACH;FMTTYPE=image/png:https://www.revesbypacifichotel.com.au/wp-content/uploads/2025/12/Untitled-design-12.png
END:VEVENT
BEGIN:VEVENT
DTSTART;TZID=UTC:20260312T160000
DTEND;TZID=UTC:20260312T180000
DTSTAMP:20260420T160839
CREATED:20251116T160324Z
LAST-MODIFIED:20251229T031402Z
UID:10001668-1773331200-1773338400@www.revesbypacifichotel.com.au
SUMMARY:Happy Hour
DESCRIPTION:Kick back with our $5 great value from 4pm–6pm during Members Happy Hour.
URL:https://www.revesbypacifichotel.com.au/event/happy-hour/2026-03-12/
CATEGORIES:What's On
END:VEVENT
END:VCALENDAR