BEGIN:VCALENDAR
VERSION:2.0
PRODID:-//Revesby Pacific Hotel - ECPv6.15.13//NONSGML v1.0//EN
CALSCALE:GREGORIAN
METHOD:PUBLISH
X-WR-CALNAME:Revesby Pacific Hotel
X-ORIGINAL-URL:https://www.revesbypacifichotel.com.au
X-WR-CALDESC:Events for Revesby Pacific Hotel
REFRESH-INTERVAL;VALUE=DURATION:PT1H
X-Robots-Tag:noindex
X-PUBLISHED-TTL:PT1H
BEGIN:VTIMEZONE
TZID:UTC
BEGIN:STANDARD
TZOFFSETFROM:+0000
TZOFFSETTO:+0000
TZNAME:UTC
DTSTART:20250101T000000
END:STANDARD
END:VTIMEZONE
BEGIN:VTIMEZONE
TZID:UTC
BEGIN:STANDARD
TZOFFSETFROM:+0000
TZOFFSETTO:+0000
TZNAME:UTC
DTSTART:20250101T000000
END:STANDARD
END:VTIMEZONE
BEGIN:VEVENT
DTSTART;VALUE=DATE:20260521
DTEND;VALUE=DATE:20260522
DTSTAMP:20260420T144516
CREATED:20251229T023912Z
LAST-MODIFIED:20251229T023941Z
UID:10002377-1779321600-1779407999@www.revesbypacifichotel.com.au
SUMMARY:$15 Menu
DESCRIPTION:Enjoy our $15 Menu featuring classic comfort favourites\, available for a great-value dine-in option!
URL:https://www.revesbypacifichotel.com.au/event/15-menu/2026-05-21/
CATEGORIES:What's On
END:VEVENT
BEGIN:VEVENT
DTSTART;TZID=UTC:20260521T160000
DTEND;TZID=UTC:20260521T180000
DTSTAMP:20260420T144516
CREATED:20251116T160324Z
LAST-MODIFIED:20251229T031402Z
UID:10001728-1779379200-1779386400@www.revesbypacifichotel.com.au
SUMMARY:Happy Hour
DESCRIPTION:Kick back with our $5 great value from 4pm–6pm during Members Happy Hour.
URL:https://www.revesbypacifichotel.com.au/event/happy-hour/2026-05-21/
CATEGORIES:What's On
END:VEVENT
BEGIN:VEVENT
DTSTART;TZID=UTC:20260521T180000
DTEND;TZID=UTC:20260521T200000
DTSTAMP:20260420T144516
CREATED:20251229T034233Z
LAST-MODIFIED:20251229T034636Z
UID:10005026-1779386400-1779393600@www.revesbypacifichotel.com.au
SUMMARY:Joker Poker Thursdays
DESCRIPTION:With jackpots starting at $500 and increasing by $100 every week\, all you need to do is purchase a drink with your Pub+ card between 6pm and 7pm to be in the draw at 7pm. T&Cs apply.
URL:https://www.revesbypacifichotel.com.au/event/joker-poker-thursdays/2026-05-21/
CATEGORIES:What's On
ATTACH;FMTTYPE=image/png:https://www.revesbypacifichotel.com.au/wp-content/uploads/2025/12/Untitled-design-12.png
END:VEVENT
BEGIN:VEVENT
DTSTART;VALUE=DATE:20260522
DTEND;VALUE=DATE:20260523
DTSTAMP:20260420T144516
CREATED:20251229T023912Z
LAST-MODIFIED:20251229T023941Z
UID:10002378-1779408000-1779494399@www.revesbypacifichotel.com.au
SUMMARY:$15 Menu
DESCRIPTION:Enjoy our $15 Menu featuring classic comfort favourites\, available for a great-value dine-in option!
URL:https://www.revesbypacifichotel.com.au/event/15-menu/2026-05-22/
CATEGORIES:What's On
END:VEVENT
BEGIN:VEVENT
DTSTART;TZID=UTC:20260522T160000
DTEND;TZID=UTC:20260522T180000
DTSTAMP:20260420T144516
CREATED:20251116T160324Z
LAST-MODIFIED:20251229T031402Z
UID:10001729-1779465600-1779472800@www.revesbypacifichotel.com.au
SUMMARY:Happy Hour
DESCRIPTION:Kick back with our $5 great value from 4pm–6pm during Members Happy Hour.
URL:https://www.revesbypacifichotel.com.au/event/happy-hour/2026-05-22/
CATEGORIES:What's On
END:VEVENT
BEGIN:VEVENT
DTSTART;TZID=UTC:20260522T180000
DTEND;TZID=UTC:20260522T200000
DTSTAMP:20260420T144516
CREATED:20251229T034233Z
LAST-MODIFIED:20251229T034636Z
UID:10005630-1779472800-1779480000@www.revesbypacifichotel.com.au
SUMMARY:Joker Poker Thursdays
DESCRIPTION:With jackpots starting at $500 and increasing by $100 every week\, all you need to do is purchase a drink with your Pub+ card between 6pm and 7pm to be in the draw at 7pm. T&Cs apply.
URL:https://www.revesbypacifichotel.com.au/event/joker-poker-thursdays/2026-05-22/
CATEGORIES:What's On
ATTACH;FMTTYPE=image/png:https://www.revesbypacifichotel.com.au/wp-content/uploads/2025/12/Untitled-design-12.png
END:VEVENT
BEGIN:VEVENT
DTSTART;VALUE=DATE:20260523
DTEND;VALUE=DATE:20260524
DTSTAMP:20260420T144516
CREATED:20251229T023912Z
LAST-MODIFIED:20251229T023941Z
UID:10002379-1779494400-1779580799@www.revesbypacifichotel.com.au
SUMMARY:$15 Menu
DESCRIPTION:Enjoy our $15 Menu featuring classic comfort favourites\, available for a great-value dine-in option!
URL:https://www.revesbypacifichotel.com.au/event/15-menu/2026-05-23/
CATEGORIES:What's On
END:VEVENT
BEGIN:VEVENT
DTSTART;TZID=UTC:20260523T160000
DTEND;TZID=UTC:20260523T180000
DTSTAMP:20260420T144516
CREATED:20251116T160324Z
LAST-MODIFIED:20251229T031402Z
UID:10001730-1779552000-1779559200@www.revesbypacifichotel.com.au
SUMMARY:Happy Hour
DESCRIPTION:Kick back with our $5 great value from 4pm–6pm during Members Happy Hour.
URL:https://www.revesbypacifichotel.com.au/event/happy-hour/2026-05-23/
CATEGORIES:What's On
END:VEVENT
BEGIN:VEVENT
DTSTART;TZID=UTC:20260523T180000
DTEND;TZID=UTC:20260523T200000
DTSTAMP:20260420T144516
CREATED:20251229T034233Z
LAST-MODIFIED:20251229T034636Z
UID:10005631-1779559200-1779566400@www.revesbypacifichotel.com.au
SUMMARY:Joker Poker Thursdays
DESCRIPTION:With jackpots starting at $500 and increasing by $100 every week\, all you need to do is purchase a drink with your Pub+ card between 6pm and 7pm to be in the draw at 7pm. T&Cs apply.
URL:https://www.revesbypacifichotel.com.au/event/joker-poker-thursdays/2026-05-23/
CATEGORIES:What's On
ATTACH;FMTTYPE=image/png:https://www.revesbypacifichotel.com.au/wp-content/uploads/2025/12/Untitled-design-12.png
END:VEVENT
BEGIN:VEVENT
DTSTART;VALUE=DATE:20260524
DTEND;VALUE=DATE:20260525
DTSTAMP:20260420T144516
CREATED:20251229T023912Z
LAST-MODIFIED:20251229T023941Z
UID:10002380-1779580800-1779667199@www.revesbypacifichotel.com.au
SUMMARY:$15 Menu
DESCRIPTION:Enjoy our $15 Menu featuring classic comfort favourites\, available for a great-value dine-in option!
URL:https://www.revesbypacifichotel.com.au/event/15-menu/2026-05-24/
CATEGORIES:What's On
END:VEVENT
BEGIN:VEVENT
DTSTART;TZID=UTC:20260524T180000
DTEND;TZID=UTC:20260524T200000
DTSTAMP:20260420T144516
CREATED:20251229T034233Z
LAST-MODIFIED:20251229T034636Z
UID:10005632-1779645600-1779652800@www.revesbypacifichotel.com.au
SUMMARY:Joker Poker Thursdays
DESCRIPTION:With jackpots starting at $500 and increasing by $100 every week\, all you need to do is purchase a drink with your Pub+ card between 6pm and 7pm to be in the draw at 7pm. T&Cs apply.
URL:https://www.revesbypacifichotel.com.au/event/joker-poker-thursdays/2026-05-24/
CATEGORIES:What's On
ATTACH;FMTTYPE=image/png:https://www.revesbypacifichotel.com.au/wp-content/uploads/2025/12/Untitled-design-12.png
END:VEVENT
BEGIN:VEVENT
DTSTART;VALUE=DATE:20260525
DTEND;VALUE=DATE:20260526
DTSTAMP:20260420T144516
CREATED:20251229T023912Z
LAST-MODIFIED:20251229T023941Z
UID:10002381-1779667200-1779753599@www.revesbypacifichotel.com.au
SUMMARY:$15 Menu
DESCRIPTION:Enjoy our $15 Menu featuring classic comfort favourites\, available for a great-value dine-in option!
URL:https://www.revesbypacifichotel.com.au/event/15-menu/2026-05-25/
CATEGORIES:What's On
END:VEVENT
BEGIN:VEVENT
DTSTART;VALUE=DATE:20260525
DTEND;VALUE=DATE:20270601
DTSTAMP:20260420T144516
CREATED:20251229T024709Z
LAST-MODIFIED:20251229T030453Z
UID:10004713-1779667200-1811807999@www.revesbypacifichotel.com.au
SUMMARY:Meat Raffle Fridays
DESCRIPTION:Our Meat Tray Raffles run every Friday from 6pm–7pm\, with one ticket for every drink purchased. Make sure you’re a Pub+ member to get involved. T&Cs apply.
URL:https://www.revesbypacifichotel.com.au/event/meat-raffle-fridays/2026-05-25/
CATEGORIES:What's On
ATTACH;FMTTYPE=image/png:https://www.revesbypacifichotel.com.au/wp-content/uploads/2025/12/Untitled-design-11.png
END:VEVENT
BEGIN:VEVENT
DTSTART;TZID=UTC:20260525T160000
DTEND;TZID=UTC:20260525T180000
DTSTAMP:20260420T144516
CREATED:20251116T160324Z
LAST-MODIFIED:20251229T031402Z
UID:10001731-1779724800-1779732000@www.revesbypacifichotel.com.au
SUMMARY:Happy Hour
DESCRIPTION:Kick back with our $5 great value from 4pm–6pm during Members Happy Hour.
URL:https://www.revesbypacifichotel.com.au/event/happy-hour/2026-05-25/
CATEGORIES:What's On
END:VEVENT
BEGIN:VEVENT
DTSTART;TZID=UTC:20260525T180000
DTEND;TZID=UTC:20260525T200000
DTSTAMP:20260420T144516
CREATED:20251229T034233Z
LAST-MODIFIED:20251229T034636Z
UID:10005288-1779732000-1779739200@www.revesbypacifichotel.com.au
SUMMARY:Joker Poker Thursdays
DESCRIPTION:With jackpots starting at $500 and increasing by $100 every week\, all you need to do is purchase a drink with your Pub+ card between 6pm and 7pm to be in the draw at 7pm. T&Cs apply.
URL:https://www.revesbypacifichotel.com.au/event/joker-poker-thursdays/2026-05-25/
CATEGORIES:What's On
ATTACH;FMTTYPE=image/png:https://www.revesbypacifichotel.com.au/wp-content/uploads/2025/12/Untitled-design-12.png
END:VEVENT
BEGIN:VEVENT
DTSTART;VALUE=DATE:20260526
DTEND;VALUE=DATE:20260527
DTSTAMP:20260420T144516
CREATED:20251229T023912Z
LAST-MODIFIED:20251229T023941Z
UID:10002382-1779753600-1779839999@www.revesbypacifichotel.com.au
SUMMARY:$15 Menu
DESCRIPTION:Enjoy our $15 Menu featuring classic comfort favourites\, available for a great-value dine-in option!
URL:https://www.revesbypacifichotel.com.au/event/15-menu/2026-05-26/
CATEGORIES:What's On
END:VEVENT
BEGIN:VEVENT
DTSTART;TZID=UTC:20260526T160000
DTEND;TZID=UTC:20260526T180000
DTSTAMP:20260420T144516
CREATED:20251116T160324Z
LAST-MODIFIED:20251229T031402Z
UID:10001732-1779811200-1779818400@www.revesbypacifichotel.com.au
SUMMARY:Happy Hour
DESCRIPTION:Kick back with our $5 great value from 4pm–6pm during Members Happy Hour.
URL:https://www.revesbypacifichotel.com.au/event/happy-hour/2026-05-26/
CATEGORIES:What's On
END:VEVENT
BEGIN:VEVENT
DTSTART;TZID=UTC:20260526T180000
DTEND;TZID=UTC:20260526T200000
DTSTAMP:20260420T144516
CREATED:20251229T034233Z
LAST-MODIFIED:20251229T034636Z
UID:10005633-1779818400-1779825600@www.revesbypacifichotel.com.au
SUMMARY:Joker Poker Thursdays
DESCRIPTION:With jackpots starting at $500 and increasing by $100 every week\, all you need to do is purchase a drink with your Pub+ card between 6pm and 7pm to be in the draw at 7pm. T&Cs apply.
URL:https://www.revesbypacifichotel.com.au/event/joker-poker-thursdays/2026-05-26/
CATEGORIES:What's On
ATTACH;FMTTYPE=image/png:https://www.revesbypacifichotel.com.au/wp-content/uploads/2025/12/Untitled-design-12.png
END:VEVENT
BEGIN:VEVENT
DTSTART;VALUE=DATE:20260527
DTEND;VALUE=DATE:20260528
DTSTAMP:20260420T144516
CREATED:20251229T023912Z
LAST-MODIFIED:20251229T023941Z
UID:10002383-1779840000-1779926399@www.revesbypacifichotel.com.au
SUMMARY:$15 Menu
DESCRIPTION:Enjoy our $15 Menu featuring classic comfort favourites\, available for a great-value dine-in option!
URL:https://www.revesbypacifichotel.com.au/event/15-menu/2026-05-27/
CATEGORIES:What's On
END:VEVENT
BEGIN:VEVENT
DTSTART;TZID=UTC:20260527T160000
DTEND;TZID=UTC:20260527T180000
DTSTAMP:20260420T144516
CREATED:20251116T160324Z
LAST-MODIFIED:20251229T031402Z
UID:10001733-1779897600-1779904800@www.revesbypacifichotel.com.au
SUMMARY:Happy Hour
DESCRIPTION:Kick back with our $5 great value from 4pm–6pm during Members Happy Hour.
URL:https://www.revesbypacifichotel.com.au/event/happy-hour/2026-05-27/
CATEGORIES:What's On
END:VEVENT
BEGIN:VEVENT
DTSTART;TZID=UTC:20260527T180000
DTEND;TZID=UTC:20260527T200000
DTSTAMP:20260420T144516
CREATED:20251229T034233Z
LAST-MODIFIED:20251229T034636Z
UID:10005634-1779904800-1779912000@www.revesbypacifichotel.com.au
SUMMARY:Joker Poker Thursdays
DESCRIPTION:With jackpots starting at $500 and increasing by $100 every week\, all you need to do is purchase a drink with your Pub+ card between 6pm and 7pm to be in the draw at 7pm. T&Cs apply.
URL:https://www.revesbypacifichotel.com.au/event/joker-poker-thursdays/2026-05-27/
CATEGORIES:What's On
ATTACH;FMTTYPE=image/png:https://www.revesbypacifichotel.com.au/wp-content/uploads/2025/12/Untitled-design-12.png
END:VEVENT
BEGIN:VEVENT
DTSTART;VALUE=DATE:20260528
DTEND;VALUE=DATE:20260529
DTSTAMP:20260420T144516
CREATED:20251229T023912Z
LAST-MODIFIED:20251229T023941Z
UID:10002384-1779926400-1780012799@www.revesbypacifichotel.com.au
SUMMARY:$15 Menu
DESCRIPTION:Enjoy our $15 Menu featuring classic comfort favourites\, available for a great-value dine-in option!
URL:https://www.revesbypacifichotel.com.au/event/15-menu/2026-05-28/
CATEGORIES:What's On
END:VEVENT
BEGIN:VEVENT
DTSTART;TZID=UTC:20260528T160000
DTEND;TZID=UTC:20260528T180000
DTSTAMP:20260420T144516
CREATED:20251116T160324Z
LAST-MODIFIED:20251229T031402Z
UID:10001734-1779984000-1779991200@www.revesbypacifichotel.com.au
SUMMARY:Happy Hour
DESCRIPTION:Kick back with our $5 great value from 4pm–6pm during Members Happy Hour.
URL:https://www.revesbypacifichotel.com.au/event/happy-hour/2026-05-28/
CATEGORIES:What's On
END:VEVENT
BEGIN:VEVENT
DTSTART;TZID=UTC:20260528T180000
DTEND;TZID=UTC:20260528T200000
DTSTAMP:20260420T144516
CREATED:20251229T034233Z
LAST-MODIFIED:20251229T034636Z
UID:10005027-1779991200-1779998400@www.revesbypacifichotel.com.au
SUMMARY:Joker Poker Thursdays
DESCRIPTION:With jackpots starting at $500 and increasing by $100 every week\, all you need to do is purchase a drink with your Pub+ card between 6pm and 7pm to be in the draw at 7pm. T&Cs apply.
URL:https://www.revesbypacifichotel.com.au/event/joker-poker-thursdays/2026-05-28/
CATEGORIES:What's On
ATTACH;FMTTYPE=image/png:https://www.revesbypacifichotel.com.au/wp-content/uploads/2025/12/Untitled-design-12.png
END:VEVENT
BEGIN:VEVENT
DTSTART;VALUE=DATE:20260529
DTEND;VALUE=DATE:20260530
DTSTAMP:20260420T144516
CREATED:20251229T023912Z
LAST-MODIFIED:20251229T023941Z
UID:10002385-1780012800-1780099199@www.revesbypacifichotel.com.au
SUMMARY:$15 Menu
DESCRIPTION:Enjoy our $15 Menu featuring classic comfort favourites\, available for a great-value dine-in option!
URL:https://www.revesbypacifichotel.com.au/event/15-menu/2026-05-29/
CATEGORIES:What's On
END:VEVENT
BEGIN:VEVENT
DTSTART;TZID=UTC:20260529T160000
DTEND;TZID=UTC:20260529T180000
DTSTAMP:20260420T144516
CREATED:20251116T160324Z
LAST-MODIFIED:20251229T031402Z
UID:10001735-1780070400-1780077600@www.revesbypacifichotel.com.au
SUMMARY:Happy Hour
DESCRIPTION:Kick back with our $5 great value from 4pm–6pm during Members Happy Hour.
URL:https://www.revesbypacifichotel.com.au/event/happy-hour/2026-05-29/
CATEGORIES:What's On
END:VEVENT
BEGIN:VEVENT
DTSTART;TZID=UTC:20260529T180000
DTEND;TZID=UTC:20260529T200000
DTSTAMP:20260420T144516
CREATED:20251229T034233Z
LAST-MODIFIED:20251229T034636Z
UID:10005635-1780077600-1780084800@www.revesbypacifichotel.com.au
SUMMARY:Joker Poker Thursdays
DESCRIPTION:With jackpots starting at $500 and increasing by $100 every week\, all you need to do is purchase a drink with your Pub+ card between 6pm and 7pm to be in the draw at 7pm. T&Cs apply.
URL:https://www.revesbypacifichotel.com.au/event/joker-poker-thursdays/2026-05-29/
CATEGORIES:What's On
ATTACH;FMTTYPE=image/png:https://www.revesbypacifichotel.com.au/wp-content/uploads/2025/12/Untitled-design-12.png
END:VEVENT
BEGIN:VEVENT
DTSTART;VALUE=DATE:20260530
DTEND;VALUE=DATE:20260531
DTSTAMP:20260420T144516
CREATED:20251229T023912Z
LAST-MODIFIED:20251229T023941Z
UID:10002386-1780099200-1780185599@www.revesbypacifichotel.com.au
SUMMARY:$15 Menu
DESCRIPTION:Enjoy our $15 Menu featuring classic comfort favourites\, available for a great-value dine-in option!
URL:https://www.revesbypacifichotel.com.au/event/15-menu/2026-05-30/
CATEGORIES:What's On
END:VEVENT
BEGIN:VEVENT
DTSTART;TZID=UTC:20260530T160000
DTEND;TZID=UTC:20260530T180000
DTSTAMP:20260420T144516
CREATED:20251116T160324Z
LAST-MODIFIED:20251229T031402Z
UID:10001736-1780156800-1780164000@www.revesbypacifichotel.com.au
SUMMARY:Happy Hour
DESCRIPTION:Kick back with our $5 great value from 4pm–6pm during Members Happy Hour.
URL:https://www.revesbypacifichotel.com.au/event/happy-hour/2026-05-30/
CATEGORIES:What's On
END:VEVENT
BEGIN:VEVENT
DTSTART;TZID=UTC:20260530T180000
DTEND;TZID=UTC:20260530T200000
DTSTAMP:20260420T144516
CREATED:20251229T034233Z
LAST-MODIFIED:20251229T034636Z
UID:10005636-1780164000-1780171200@www.revesbypacifichotel.com.au
SUMMARY:Joker Poker Thursdays
DESCRIPTION:With jackpots starting at $500 and increasing by $100 every week\, all you need to do is purchase a drink with your Pub+ card between 6pm and 7pm to be in the draw at 7pm. T&Cs apply.
URL:https://www.revesbypacifichotel.com.au/event/joker-poker-thursdays/2026-05-30/
CATEGORIES:What's On
ATTACH;FMTTYPE=image/png:https://www.revesbypacifichotel.com.au/wp-content/uploads/2025/12/Untitled-design-12.png
END:VEVENT
END:VCALENDAR