BEGIN:VCALENDAR
VERSION:2.0
PRODID:-//Revesby Pacific Hotel - ECPv6.15.13//NONSGML v1.0//EN
CALSCALE:GREGORIAN
METHOD:PUBLISH
X-ORIGINAL-URL:https://www.revesbypacifichotel.com.au
X-WR-CALDESC:Events for Revesby Pacific Hotel
REFRESH-INTERVAL;VALUE=DURATION:PT1H
X-Robots-Tag:noindex
X-PUBLISHED-TTL:PT1H
BEGIN:VTIMEZONE
TZID:UTC
BEGIN:STANDARD
TZOFFSETFROM:+0000
TZOFFSETTO:+0000
TZNAME:UTC
DTSTART:20250101T000000
END:STANDARD
END:VTIMEZONE
BEGIN:VTIMEZONE
TZID:UTC
BEGIN:STANDARD
TZOFFSETFROM:+0000
TZOFFSETTO:+0000
TZNAME:UTC
DTSTART:20250101T000000
END:STANDARD
END:VTIMEZONE
BEGIN:VEVENT
DTSTART;VALUE=DATE:20260314
DTEND;VALUE=DATE:20260315
DTSTAMP:20260422T103756
CREATED:20251229T023912Z
LAST-MODIFIED:20251229T023941Z
UID:10002309-1773446400-1773532799@www.revesbypacifichotel.com.au
SUMMARY:$15 Menu
DESCRIPTION:Enjoy our $15 Menu featuring classic comfort favourites\, available for a great-value dine-in option!
URL:https://www.revesbypacifichotel.com.au/event/15-menu/2026-03-14/
CATEGORIES:What's On
END:VEVENT
BEGIN:VEVENT
DTSTART;TZID=UTC:20260313T180000
DTEND;TZID=UTC:20260313T200000
DTSTAMP:20260422T103756
CREATED:20251229T034233Z
LAST-MODIFIED:20251229T034636Z
UID:10005580-1773424800-1773432000@www.revesbypacifichotel.com.au
SUMMARY:Joker Poker Thursdays
DESCRIPTION:With jackpots starting at $500 and increasing by $100 every week\, all you need to do is purchase a drink with your Pub+ card between 6pm and 7pm to be in the draw at 7pm. T&Cs apply.
URL:https://www.revesbypacifichotel.com.au/event/joker-poker-thursdays/2026-03-13/
CATEGORIES:What's On
ATTACH;FMTTYPE=image/png:https://www.revesbypacifichotel.com.au/wp-content/uploads/2025/12/Untitled-design-12.png
END:VEVENT
BEGIN:VEVENT
DTSTART;TZID=UTC:20260313T160000
DTEND;TZID=UTC:20260313T180000
DTSTAMP:20260422T103756
CREATED:20251116T160324Z
LAST-MODIFIED:20251229T031402Z
UID:10001669-1773417600-1773424800@www.revesbypacifichotel.com.au
SUMMARY:Happy Hour
DESCRIPTION:Kick back with our $5 great value from 4pm–6pm during Members Happy Hour.
URL:https://www.revesbypacifichotel.com.au/event/happy-hour/2026-03-13/
CATEGORIES:What's On
END:VEVENT
BEGIN:VEVENT
DTSTART;VALUE=DATE:20260313
DTEND;VALUE=DATE:20260314
DTSTAMP:20260422T103756
CREATED:20251229T023912Z
LAST-MODIFIED:20251229T023941Z
UID:10002308-1773360000-1773446399@www.revesbypacifichotel.com.au
SUMMARY:$15 Menu
DESCRIPTION:Enjoy our $15 Menu featuring classic comfort favourites\, available for a great-value dine-in option!
URL:https://www.revesbypacifichotel.com.au/event/15-menu/2026-03-13/
CATEGORIES:What's On
END:VEVENT
BEGIN:VEVENT
DTSTART;TZID=UTC:20260312T180000
DTEND;TZID=UTC:20260312T200000
DTSTAMP:20260422T103756
CREATED:20251229T034233Z
LAST-MODIFIED:20251229T034636Z
UID:10005016-1773338400-1773345600@www.revesbypacifichotel.com.au
SUMMARY:Joker Poker Thursdays
DESCRIPTION:With jackpots starting at $500 and increasing by $100 every week\, all you need to do is purchase a drink with your Pub+ card between 6pm and 7pm to be in the draw at 7pm. T&Cs apply.
URL:https://www.revesbypacifichotel.com.au/event/joker-poker-thursdays/2026-03-12/
CATEGORIES:What's On
ATTACH;FMTTYPE=image/png:https://www.revesbypacifichotel.com.au/wp-content/uploads/2025/12/Untitled-design-12.png
END:VEVENT
BEGIN:VEVENT
DTSTART;TZID=UTC:20260312T160000
DTEND;TZID=UTC:20260312T180000
DTSTAMP:20260422T103756
CREATED:20251116T160324Z
LAST-MODIFIED:20251229T031402Z
UID:10001668-1773331200-1773338400@www.revesbypacifichotel.com.au
SUMMARY:Happy Hour
DESCRIPTION:Kick back with our $5 great value from 4pm–6pm during Members Happy Hour.
URL:https://www.revesbypacifichotel.com.au/event/happy-hour/2026-03-12/
CATEGORIES:What's On
END:VEVENT
BEGIN:VEVENT
DTSTART;VALUE=DATE:20260312
DTEND;VALUE=DATE:20260313
DTSTAMP:20260422T103756
CREATED:20251229T023912Z
LAST-MODIFIED:20251229T023941Z
UID:10002307-1773273600-1773359999@www.revesbypacifichotel.com.au
SUMMARY:$15 Menu
DESCRIPTION:Enjoy our $15 Menu featuring classic comfort favourites\, available for a great-value dine-in option!
URL:https://www.revesbypacifichotel.com.au/event/15-menu/2026-03-12/
CATEGORIES:What's On
END:VEVENT
BEGIN:VEVENT
DTSTART;TZID=UTC:20260311T180000
DTEND;TZID=UTC:20260311T200000
DTSTAMP:20260422T103756
CREATED:20251229T034233Z
LAST-MODIFIED:20251229T034636Z
UID:10005579-1773252000-1773259200@www.revesbypacifichotel.com.au
SUMMARY:Joker Poker Thursdays
DESCRIPTION:With jackpots starting at $500 and increasing by $100 every week\, all you need to do is purchase a drink with your Pub+ card between 6pm and 7pm to be in the draw at 7pm. T&Cs apply.
URL:https://www.revesbypacifichotel.com.au/event/joker-poker-thursdays/2026-03-11/
CATEGORIES:What's On
ATTACH;FMTTYPE=image/png:https://www.revesbypacifichotel.com.au/wp-content/uploads/2025/12/Untitled-design-12.png
END:VEVENT
BEGIN:VEVENT
DTSTART;TZID=UTC:20260311T160000
DTEND;TZID=UTC:20260311T180000
DTSTAMP:20260422T103757
CREATED:20251116T160324Z
LAST-MODIFIED:20251229T031402Z
UID:10001667-1773244800-1773252000@www.revesbypacifichotel.com.au
SUMMARY:Happy Hour
DESCRIPTION:Kick back with our $5 great value from 4pm–6pm during Members Happy Hour.
URL:https://www.revesbypacifichotel.com.au/event/happy-hour/2026-03-11/
CATEGORIES:What's On
END:VEVENT
BEGIN:VEVENT
DTSTART;VALUE=DATE:20260311
DTEND;VALUE=DATE:20260312
DTSTAMP:20260422T103757
CREATED:20251229T023912Z
LAST-MODIFIED:20251229T023941Z
UID:10002306-1773187200-1773273599@www.revesbypacifichotel.com.au
SUMMARY:$15 Menu
DESCRIPTION:Enjoy our $15 Menu featuring classic comfort favourites\, available for a great-value dine-in option!
URL:https://www.revesbypacifichotel.com.au/event/15-menu/2026-03-11/
CATEGORIES:What's On
END:VEVENT
BEGIN:VEVENT
DTSTART;TZID=UTC:20260310T180000
DTEND;TZID=UTC:20260310T200000
DTSTAMP:20260422T103757
CREATED:20251229T034233Z
LAST-MODIFIED:20251229T034636Z
UID:10005578-1773165600-1773172800@www.revesbypacifichotel.com.au
SUMMARY:Joker Poker Thursdays
DESCRIPTION:With jackpots starting at $500 and increasing by $100 every week\, all you need to do is purchase a drink with your Pub+ card between 6pm and 7pm to be in the draw at 7pm. T&Cs apply.
URL:https://www.revesbypacifichotel.com.au/event/joker-poker-thursdays/2026-03-10/
CATEGORIES:What's On
ATTACH;FMTTYPE=image/png:https://www.revesbypacifichotel.com.au/wp-content/uploads/2025/12/Untitled-design-12.png
END:VEVENT
BEGIN:VEVENT
DTSTART;TZID=UTC:20260310T160000
DTEND;TZID=UTC:20260310T180000
DTSTAMP:20260422T103757
CREATED:20251116T160324Z
LAST-MODIFIED:20251229T031402Z
UID:10001666-1773158400-1773165600@www.revesbypacifichotel.com.au
SUMMARY:Happy Hour
DESCRIPTION:Kick back with our $5 great value from 4pm–6pm during Members Happy Hour.
URL:https://www.revesbypacifichotel.com.au/event/happy-hour/2026-03-10/
CATEGORIES:What's On
END:VEVENT
BEGIN:VEVENT
DTSTART;VALUE=DATE:20260310
DTEND;VALUE=DATE:20260311
DTSTAMP:20260422T103757
CREATED:20251229T023912Z
LAST-MODIFIED:20251229T023941Z
UID:10002305-1773100800-1773187199@www.revesbypacifichotel.com.au
SUMMARY:$15 Menu
DESCRIPTION:Enjoy our $15 Menu featuring classic comfort favourites\, available for a great-value dine-in option!
URL:https://www.revesbypacifichotel.com.au/event/15-menu/2026-03-10/
CATEGORIES:What's On
END:VEVENT
BEGIN:VEVENT
DTSTART;TZID=UTC:20260309T180000
DTEND;TZID=UTC:20260309T200000
DTSTAMP:20260422T103757
CREATED:20251229T034233Z
LAST-MODIFIED:20251229T034636Z
UID:10005277-1773079200-1773086400@www.revesbypacifichotel.com.au
SUMMARY:Joker Poker Thursdays
DESCRIPTION:With jackpots starting at $500 and increasing by $100 every week\, all you need to do is purchase a drink with your Pub+ card between 6pm and 7pm to be in the draw at 7pm. T&Cs apply.
URL:https://www.revesbypacifichotel.com.au/event/joker-poker-thursdays/2026-03-09/
CATEGORIES:What's On
ATTACH;FMTTYPE=image/png:https://www.revesbypacifichotel.com.au/wp-content/uploads/2025/12/Untitled-design-12.png
END:VEVENT
BEGIN:VEVENT
DTSTART;TZID=UTC:20260309T160000
DTEND;TZID=UTC:20260309T180000
DTSTAMP:20260422T103757
CREATED:20251116T160324Z
LAST-MODIFIED:20251229T031402Z
UID:10001665-1773072000-1773079200@www.revesbypacifichotel.com.au
SUMMARY:Happy Hour
DESCRIPTION:Kick back with our $5 great value from 4pm–6pm during Members Happy Hour.
URL:https://www.revesbypacifichotel.com.au/event/happy-hour/2026-03-09/
CATEGORIES:What's On
END:VEVENT
BEGIN:VEVENT
DTSTART;VALUE=DATE:20260309
DTEND;VALUE=DATE:20260410
DTSTAMP:20260422T103757
CREATED:20260206T011920Z
LAST-MODIFIED:20260206T012610Z
UID:10006864-1773014400-1775779199@www.revesbypacifichotel.com.au
SUMMARY:2026 Footy Tipping
DESCRIPTION:NRL season is here — back yourself and join the Revesby’s Pacific Footy Tipping League. \nIt’s $20 to enter\, with big cash prizes for 1st\, 2nd and 3rd. Plus\, you’ll score a reward every week just for putting your tips in. \nDownload the free FANZO app and join with code A07AE798 \n18+ only. T&Cs apply.
URL:https://www.revesbypacifichotel.com.au/event/2026-footy-tipping/2026-03-09/
CATEGORIES:What's On
END:VEVENT
BEGIN:VEVENT
DTSTART;VALUE=DATE:20260309
DTEND;VALUE=DATE:20260310
DTSTAMP:20260422T103757
CREATED:20251229T023912Z
LAST-MODIFIED:20251229T023941Z
UID:10002304-1773014400-1773100799@www.revesbypacifichotel.com.au
SUMMARY:$15 Menu
DESCRIPTION:Enjoy our $15 Menu featuring classic comfort favourites\, available for a great-value dine-in option!
URL:https://www.revesbypacifichotel.com.au/event/15-menu/2026-03-09/
CATEGORIES:What's On
END:VEVENT
BEGIN:VEVENT
DTSTART;TZID=UTC:20260308T180000
DTEND;TZID=UTC:20260308T200000
DTSTAMP:20260422T103757
CREATED:20251229T034233Z
LAST-MODIFIED:20251229T034636Z
UID:10005577-1772992800-1773000000@www.revesbypacifichotel.com.au
SUMMARY:Joker Poker Thursdays
DESCRIPTION:With jackpots starting at $500 and increasing by $100 every week\, all you need to do is purchase a drink with your Pub+ card between 6pm and 7pm to be in the draw at 7pm. T&Cs apply.
URL:https://www.revesbypacifichotel.com.au/event/joker-poker-thursdays/2026-03-08/
CATEGORIES:What's On
ATTACH;FMTTYPE=image/png:https://www.revesbypacifichotel.com.au/wp-content/uploads/2025/12/Untitled-design-12.png
END:VEVENT
BEGIN:VEVENT
DTSTART;VALUE=DATE:20260308
DTEND;VALUE=DATE:20260409
DTSTAMP:20260422T103757
CREATED:20260206T011920Z
LAST-MODIFIED:20260206T012610Z
UID:10006863-1772928000-1775692799@www.revesbypacifichotel.com.au
SUMMARY:2026 Footy Tipping
DESCRIPTION:NRL season is here — back yourself and join the Revesby’s Pacific Footy Tipping League. \nIt’s $20 to enter\, with big cash prizes for 1st\, 2nd and 3rd. Plus\, you’ll score a reward every week just for putting your tips in. \nDownload the free FANZO app and join with code A07AE798 \n18+ only. T&Cs apply.
URL:https://www.revesbypacifichotel.com.au/event/2026-footy-tipping/2026-03-08/
CATEGORIES:What's On
END:VEVENT
BEGIN:VEVENT
DTSTART;VALUE=DATE:20260308
DTEND;VALUE=DATE:20260309
DTSTAMP:20260422T103757
CREATED:20251229T023912Z
LAST-MODIFIED:20251229T023941Z
UID:10002303-1772928000-1773014399@www.revesbypacifichotel.com.au
SUMMARY:$15 Menu
DESCRIPTION:Enjoy our $15 Menu featuring classic comfort favourites\, available for a great-value dine-in option!
URL:https://www.revesbypacifichotel.com.au/event/15-menu/2026-03-08/
CATEGORIES:What's On
END:VEVENT
BEGIN:VEVENT
DTSTART;TZID=UTC:20260307T180000
DTEND;TZID=UTC:20260307T200000
DTSTAMP:20260422T103757
CREATED:20251229T034233Z
LAST-MODIFIED:20251229T034636Z
UID:10005576-1772906400-1772913600@www.revesbypacifichotel.com.au
SUMMARY:Joker Poker Thursdays
DESCRIPTION:With jackpots starting at $500 and increasing by $100 every week\, all you need to do is purchase a drink with your Pub+ card between 6pm and 7pm to be in the draw at 7pm. T&Cs apply.
URL:https://www.revesbypacifichotel.com.au/event/joker-poker-thursdays/2026-03-07/
CATEGORIES:What's On
ATTACH;FMTTYPE=image/png:https://www.revesbypacifichotel.com.au/wp-content/uploads/2025/12/Untitled-design-12.png
END:VEVENT
BEGIN:VEVENT
DTSTART;TZID=UTC:20260307T160000
DTEND;TZID=UTC:20260307T180000
DTSTAMP:20260422T103757
CREATED:20251116T160324Z
LAST-MODIFIED:20251229T031402Z
UID:10001664-1772899200-1772906400@www.revesbypacifichotel.com.au
SUMMARY:Happy Hour
DESCRIPTION:Kick back with our $5 great value from 4pm–6pm during Members Happy Hour.
URL:https://www.revesbypacifichotel.com.au/event/happy-hour/2026-03-07/
CATEGORIES:What's On
END:VEVENT
BEGIN:VEVENT
DTSTART;VALUE=DATE:20260307
DTEND;VALUE=DATE:20260408
DTSTAMP:20260422T103757
CREATED:20260206T011920Z
LAST-MODIFIED:20260206T012610Z
UID:10006862-1772841600-1775606399@www.revesbypacifichotel.com.au
SUMMARY:2026 Footy Tipping
DESCRIPTION:NRL season is here — back yourself and join the Revesby’s Pacific Footy Tipping League. \nIt’s $20 to enter\, with big cash prizes for 1st\, 2nd and 3rd. Plus\, you’ll score a reward every week just for putting your tips in. \nDownload the free FANZO app and join with code A07AE798 \n18+ only. T&Cs apply.
URL:https://www.revesbypacifichotel.com.au/event/2026-footy-tipping/2026-03-07/
CATEGORIES:What's On
END:VEVENT
BEGIN:VEVENT
DTSTART;VALUE=DATE:20260307
DTEND;VALUE=DATE:20260308
DTSTAMP:20260422T103757
CREATED:20251229T023912Z
LAST-MODIFIED:20251229T023941Z
UID:10002302-1772841600-1772927999@www.revesbypacifichotel.com.au
SUMMARY:$15 Menu
DESCRIPTION:Enjoy our $15 Menu featuring classic comfort favourites\, available for a great-value dine-in option!
URL:https://www.revesbypacifichotel.com.au/event/15-menu/2026-03-07/
CATEGORIES:What's On
END:VEVENT
BEGIN:VEVENT
DTSTART;TZID=UTC:20260306T180000
DTEND;TZID=UTC:20260306T200000
DTSTAMP:20260422T103757
CREATED:20251229T034233Z
LAST-MODIFIED:20251229T034636Z
UID:10005575-1772820000-1772827200@www.revesbypacifichotel.com.au
SUMMARY:Joker Poker Thursdays
DESCRIPTION:With jackpots starting at $500 and increasing by $100 every week\, all you need to do is purchase a drink with your Pub+ card between 6pm and 7pm to be in the draw at 7pm. T&Cs apply.
URL:https://www.revesbypacifichotel.com.au/event/joker-poker-thursdays/2026-03-06/
CATEGORIES:What's On
ATTACH;FMTTYPE=image/png:https://www.revesbypacifichotel.com.au/wp-content/uploads/2025/12/Untitled-design-12.png
END:VEVENT
BEGIN:VEVENT
DTSTART;TZID=UTC:20260306T160000
DTEND;TZID=UTC:20260306T180000
DTSTAMP:20260422T103757
CREATED:20251116T160324Z
LAST-MODIFIED:20251229T031402Z
UID:10001663-1772812800-1772820000@www.revesbypacifichotel.com.au
SUMMARY:Happy Hour
DESCRIPTION:Kick back with our $5 great value from 4pm–6pm during Members Happy Hour.
URL:https://www.revesbypacifichotel.com.au/event/happy-hour/2026-03-06/
CATEGORIES:What's On
END:VEVENT
BEGIN:VEVENT
DTSTART;VALUE=DATE:20260306
DTEND;VALUE=DATE:20260407
DTSTAMP:20260422T103757
CREATED:20260206T011920Z
LAST-MODIFIED:20260206T012610Z
UID:10006861-1772755200-1775519999@www.revesbypacifichotel.com.au
SUMMARY:2026 Footy Tipping
DESCRIPTION:NRL season is here — back yourself and join the Revesby’s Pacific Footy Tipping League. \nIt’s $20 to enter\, with big cash prizes for 1st\, 2nd and 3rd. Plus\, you’ll score a reward every week just for putting your tips in. \nDownload the free FANZO app and join with code A07AE798 \n18+ only. T&Cs apply.
URL:https://www.revesbypacifichotel.com.au/event/2026-footy-tipping/2026-03-06/
CATEGORIES:What's On
END:VEVENT
BEGIN:VEVENT
DTSTART;VALUE=DATE:20260306
DTEND;VALUE=DATE:20260307
DTSTAMP:20260422T103757
CREATED:20251229T023912Z
LAST-MODIFIED:20251229T023941Z
UID:10002301-1772755200-1772841599@www.revesbypacifichotel.com.au
SUMMARY:$15 Menu
DESCRIPTION:Enjoy our $15 Menu featuring classic comfort favourites\, available for a great-value dine-in option!
URL:https://www.revesbypacifichotel.com.au/event/15-menu/2026-03-06/
CATEGORIES:What's On
END:VEVENT
BEGIN:VEVENT
DTSTART;TZID=UTC:20260305T180000
DTEND;TZID=UTC:20260305T200000
DTSTAMP:20260422T103757
CREATED:20251229T034233Z
LAST-MODIFIED:20251229T034636Z
UID:10005015-1772733600-1772740800@www.revesbypacifichotel.com.au
SUMMARY:Joker Poker Thursdays
DESCRIPTION:With jackpots starting at $500 and increasing by $100 every week\, all you need to do is purchase a drink with your Pub+ card between 6pm and 7pm to be in the draw at 7pm. T&Cs apply.
URL:https://www.revesbypacifichotel.com.au/event/joker-poker-thursdays/2026-03-05/
CATEGORIES:What's On
ATTACH;FMTTYPE=image/png:https://www.revesbypacifichotel.com.au/wp-content/uploads/2025/12/Untitled-design-12.png
END:VEVENT
BEGIN:VEVENT
DTSTART;TZID=UTC:20260305T160000
DTEND;TZID=UTC:20260305T180000
DTSTAMP:20260422T103757
CREATED:20251116T160324Z
LAST-MODIFIED:20251229T031402Z
UID:10001662-1772726400-1772733600@www.revesbypacifichotel.com.au
SUMMARY:Happy Hour
DESCRIPTION:Kick back with our $5 great value from 4pm–6pm during Members Happy Hour.
URL:https://www.revesbypacifichotel.com.au/event/happy-hour/2026-03-05/
CATEGORIES:What's On
END:VEVENT
END:VCALENDAR